BEGIN:VCALENDAR
VERSION:2.0
PRODID:-//eventon.com NONSGML v1.0//EN
CALSCALE:GREGORIAN
METHOD:PUBLISH
BEGIN:VEVENT
UID:69e76f65aa761
DTSTAMP:20260421T123653Z
DTSTART:20220513
DTEND:20220514
LOCATION:Leica Galerie Düsseldorf Königsallee 60\,  40212 Düsseldorf
SUMMARY:Andreas Jorns - Black is the color
DESCRIPTION:Andreas Jorns - Black is the color\nhttps://swan-magazine.com/v
 eranstaltung/andreas-jorns-black-is-the-color/
URL:https://swan-magazine.com/veranstaltung/andreas-jorns-black-is-the-color/
END:VEVENT
END:VCALENDAR